BEGIN:VCALENDAR
VERSION:2.0
PRODID:-//Meaux//NONSGML v1.0//EN
CALSCALE:GREGORIAN
METHOD:PUBLISH
X-ORIGINAL-URL:https://poledelizylaferte.catho77.fr
BEGIN:VEVENT
DTSTART;VALUE=DATE:20260430
DTEND;VALUE=DATE:20260503
DTSTAMP:20260424T171254Z
CREATED:20260309
LAST-MODIFIED:20260309
UID:69eba4960e0b8-meaux
SUMMARY:3eme consultation - Concile provincial
DESCRIPTION:3eme consultation - Concile provincial
URL:https://poledelizylaferte.catho77.fr/evenement/3eme-consultation-concile-provincial/
ATTACH;FMTTYPE=image/jpeg:https://poledelizylaferte.catho77.fr/wp-content/uploads/sites/5/2026/03/concile-consultatation3-entete.jpg
END:VEVENT
END:VCALENDAR
