BEGIN:VCALENDAR
VERSION:2.0
PRODID:-//Meaux//NONSGML v1.0//EN
CALSCALE:GREGORIAN
METHOD:PUBLISH
X-ORIGINAL-URL:https://poledelizylaferte.catho77.fr
BEGIN:VEVENT
DTSTART;VALUE=DATE:20250704
DTEND;VALUE=DATE:20250705
DTSTAMP:20260422T061102Z
CREATED:20250214
LAST-MODIFIED:20250214
UID:69e866761deee-meaux
SUMMARY:Christ en scène - Festival de musique chrétienne
DESCRIPTION:Christ en scène - Festival de musique chrétienne
URL:https://poledelizylaferte.catho77.fr/evenement/christ-en-scene-festival-de-musique-chretienne/
ATTACH;FMTTYPE=image/jpeg:https://poledelizylaferte.catho77.fr/wp-content/uploads/sites/5/2025/02/christenscene2025.jpg
END:VEVENT
END:VCALENDAR
